BEGIN:VCALENDAR
VERSION:2.0
PRODID:-//Blumenkollektiv - ECPv6.7.1//NONSGML v1.0//EN
CALSCALE:GREGORIAN
METHOD:PUBLISH
X-WR-CALNAME:Blumenkollektiv
X-ORIGINAL-URL:https://blumenkollektiv.yekmal.de
X-WR-CALDESC:Veranstaltungen für Blumenkollektiv
REFRESH-INTERVAL;VALUE=DURATION:PT1H
X-Robots-Tag:noindex
X-PUBLISHED-TTL:PT1H
BEGIN:VTIMEZONE
TZID:Europe/Berlin
BEGIN:DAYLIGHT
TZOFFSETFROM:+0100
TZOFFSETTO:+0200
TZNAME:CEST
DTSTART:20240331T010000
END:DAYLIGHT
BEGIN:STANDARD
TZOFFSETFROM:+0200
TZOFFSETTO:+0100
TZNAME:CET
DTSTART:20241027T010000
END:STANDARD
END:VTIMEZONE
BEGIN:VEVENT
DTSTART;TZID=Europe/Berlin:20241101T160000
DTEND;TZID=Europe/Berlin:20241101T200000
DTSTAMP:20260420T172219
CREATED:20241031T055012Z
LAST-MODIFIED:20241031T055012Z
UID:2254-1730476800-1730491200@blumenkollektiv.yekmal.de
SUMMARY:Wir nähen!
DESCRIPTION:
URL:https://blumenkollektiv.yekmal.de/event/wir-naehen-3/
LOCATION:Yekmal\, Waldemarstr. 57\, Berlin\, 10997\, Germany
CATEGORIES:Neue Veranstaltungen
ATTACH;FMTTYPE=image/jpeg:https://blumenkollektiv.yekmal.de/wp-content/uploads/2024/10/PXL_20241004_163817792.PORTRAIT-scaled-e1729891743105.jpg
ORGANIZER;CN="Blumenkollektiv":MAILTO:info@blumenkollektiv.de
END:VEVENT
END:VCALENDAR